BEGIN:VCALENDAR
VERSION:2.0
PRODID:-//CERN//INDICO//EN
BEGIN:VEVENT
SUMMARY:Opening Plenary Remarks
DTSTART;VALUE=DATE-TIME:20260324T130000Z
DTEND;VALUE=DATE-TIME:20260324T130500Z
DTSTAMP;VALUE=DATE-TIME:20260426T030118Z
UID:indico-contribution-10348@events.saip.org.za
DESCRIPTION:https://events.saip.org.za/event/272/contributions/10348/
LOCATION:
URL:https://events.saip.org.za/event/272/contributions/10348/
END:VEVENT
END:VCALENDAR
