BEGIN:VCALENDAR
VERSION:2.0
PRODID:-//CERN//INDICO//EN
BEGIN:VEVENT
SUMMARY:The artificial optical microscope.
DTSTART;VALUE=DATE-TIME:20260325T140000Z
DTEND;VALUE=DATE-TIME:20260325T142000Z
DTSTAMP;VALUE=DATE-TIME:20260426T030145Z
UID:indico-contribution-10340@events.saip.org.za
DESCRIPTION:Speakers: Alberto Diaspro (Department of Physics - University 
 of Genoa)\nMultimodal optical microscopy has recently converged with artif
 icial intelligence (AI) to the computational prediction of fluorescence‑
 based molecular\ncontrast from label‑free measurements. Fluorescence pla
 ys a crucial role in linking microscopy and spectroscopy at molecular leve
 l\, enabling image formation from the cellular to the molecular detail. A 
 challenging development in this field is the coupling of fluorescence with
  label-free polarization and phase optical methods.  We will discuss how t
 his convergence\, together with modern generative\nmodeling for in‑silic
 o labeling\, is turning the optical microscope into an intelligent Instrum
 ent that we name artificial microscope.\n\nhttps://events.saip.org.za/even
 t/272/contributions/10340/
LOCATION:
URL:https://events.saip.org.za/event/272/contributions/10340/
END:VEVENT
END:VCALENDAR
